BEGIN:VCALENDAR
VERSION:2.0
PRODID:www.codetothefuture.com
X-PUBLISHED-TTL:P1W
BEGIN:VEVENT
UID:69ea7364a9cfb
DTSTART:20151207T024500Z
SEQUENCE:0
TRANSP:OPAQUE
DTEND:20151207T050000Z
SUMMARY:District Wide Chess Tournament! (Class 1)
CLASS:PUBLIC
DTSTAMP:20260423T123044Z
END:VEVENT
END:VCALENDAR